BEGIN:VCALENDAR
VERSION:2.0
PRODID:-//Escola Nàutica Mediñà - ECPv6.15.20//NONSGML v1.0//EN
CALSCALE:GREGORIAN
METHOD:PUBLISH
X-WR-CALNAME:Escola Nàutica Mediñà
X-ORIGINAL-URL:https://escolanauticamedinya.com
X-WR-CALDESC:Eventos para Escola Nàutica Mediñà
REFRESH-INTERVAL;VALUE=DURATION:PT1H
X-Robots-Tag:noindex
X-PUBLISHED-TTL:PT1H
BEGIN:VTIMEZONE
TZID:Europe/Madrid
BEGIN:DAYLIGHT
TZOFFSETFROM:+0100
TZOFFSETTO:+0200
TZNAME:CEST
DTSTART:20230326T010000
END:DAYLIGHT
BEGIN:STANDARD
TZOFFSETFROM:+0200
TZOFFSETTO:+0100
TZNAME:CET
DTSTART:20231029T010000
END:STANDARD
BEGIN:DAYLIGHT
TZOFFSETFROM:+0100
TZOFFSETTO:+0200
TZNAME:CEST
DTSTART:20240331T010000
END:DAYLIGHT
BEGIN:STANDARD
TZOFFSETFROM:+0200
TZOFFSETTO:+0100
TZNAME:CET
DTSTART:20241027T010000
END:STANDARD
BEGIN:DAYLIGHT
TZOFFSETFROM:+0100
TZOFFSETTO:+0200
TZNAME:CEST
DTSTART:20250330T010000
END:DAYLIGHT
BEGIN:STANDARD
TZOFFSETFROM:+0200
TZOFFSETTO:+0100
TZNAME:CET
DTSTART:20251026T010000
END:STANDARD
END:VTIMEZONE
BEGIN:VEVENT
DTSTART;TZID=Europe/Madrid:20240607T160000
DTEND;TZID=Europe/Madrid:20240607T200000
DTSTAMP:20260420T132919
CREATED:20240319T085626Z
LAST-MODIFIED:20260126T085725Z
UID:10000273-1717776000-1717790400@escolanauticamedinya.com
SUMMARY:PNB Presencial Palamós | Junio 2024
DESCRIPTION:
URL:https://escolanauticamedinya.com/evento/pnb-presencial-palamos-junio-2024/2024-06-07/
LOCATION:Escola Nàutica Medinyà Palamós – Port Marina\, Port Marina\, Palamós\, Girona\, 17230\, España
CATEGORIES:PNB,PNB | Curso Palamós
GEO:41.847775420719;3.1357346771719
X-APPLE-STRUCTURED-LOCATION;VALUE=URI;X-ADDRESS=Escola Nàutica Medinyà Palamós – Port Marina Port Marina Palamós Girona 17230 España;X-APPLE-RADIUS=500;X-TITLE=Port Marina:geo:3.1357346771719,41.847775420719
END:VEVENT
BEGIN:VEVENT
DTSTART;TZID=Europe/Madrid:20240608T090000
DTEND;TZID=Europe/Madrid:20240608T110000
DTSTAMP:20260420T132919
CREATED:20240319T085626Z
LAST-MODIFIED:20260126T085725Z
UID:10000274-1717837200-1717844400@escolanauticamedinya.com
SUMMARY:PNB Presencial Palamós | Junio 2024
DESCRIPTION:
URL:https://escolanauticamedinya.com/evento/pnb-presencial-palamos-junio-2024/2024-06-08/
LOCATION:Escola Nàutica Medinyà Palamós – Port Marina\, Port Marina\, Palamós\, Girona\, 17230\, España
CATEGORIES:PNB,PNB | Curso Palamós
GEO:41.847775420719;3.1357346771719
X-APPLE-STRUCTURED-LOCATION;VALUE=URI;X-ADDRESS=Escola Nàutica Medinyà Palamós – Port Marina Port Marina Palamós Girona 17230 España;X-APPLE-RADIUS=500;X-TITLE=Port Marina:geo:3.1357346771719,41.847775420719
END:VEVENT
END:VCALENDAR