BEGIN:VCALENDAR
VERSION:2.0
PRODID:-//Escola Nàutica Mediñà - ECPv6.15.20//NONSGML v1.0//EN
CALSCALE:GREGORIAN
METHOD:PUBLISH
X-WR-CALNAME:Escola Nàutica Mediñà
X-ORIGINAL-URL:https://escolanauticamedinya.com
X-WR-CALDESC:Eventos para Escola Nàutica Mediñà
REFRESH-INTERVAL;VALUE=DURATION:PT1H
X-Robots-Tag:noindex
X-PUBLISHED-TTL:PT1H
BEGIN:VTIMEZONE
TZID:Europe/Madrid
BEGIN:DAYLIGHT
TZOFFSETFROM:+0100
TZOFFSETTO:+0200
TZNAME:CEST
DTSTART:20250330T010000
END:DAYLIGHT
BEGIN:STANDARD
TZOFFSETFROM:+0200
TZOFFSETTO:+0100
TZNAME:CET
DTSTART:20251026T010000
END:STANDARD
BEGIN:DAYLIGHT
TZOFFSETFROM:+0100
TZOFFSETTO:+0200
TZNAME:CEST
DTSTART:20260329T010000
END:DAYLIGHT
BEGIN:STANDARD
TZOFFSETFROM:+0200
TZOFFSETTO:+0100
TZNAME:CET
DTSTART:20261025T010000
END:STANDARD
BEGIN:DAYLIGHT
TZOFFSETFROM:+0100
TZOFFSETTO:+0200
TZNAME:CEST
DTSTART:20270328T010000
END:DAYLIGHT
BEGIN:STANDARD
TZOFFSETFROM:+0200
TZOFFSETTO:+0100
TZNAME:CET
DTSTART:20271031T010000
END:STANDARD
END:VTIMEZONE
BEGIN:VEVENT
DTSTART;TZID=Europe/Madrid:20260331T190000
DTEND;TZID=Europe/Madrid:20260331T213000
DTSTAMP:20260420T123850
CREATED:20260122T085041Z
LAST-MODIFIED:20260122T085050Z
UID:10000749-1774983600-1774992600@escolanauticamedinya.com
SUMMARY:PER Presencial Girona | Marzo-Abril 2026
DESCRIPTION:Inicio del curso: Martes\, 24 de marzo de 2026 \n\n\n\n\nHorario y días de las clases:\n\nMartes\, 24 de marzo\, de 19h a 21:30h\n\n\n\nMiercoles\, 25 de marzo\, de 19h a 21:30h\n\n\n\nJueves\, 26 de marzo\, de 19h a 21:30h\n\n\n\nMartes\, 31 de marzo\, de 19h a 21:30h\n\n\n\nMiercoles\, 01 de abril\, de 19h a 21:30h\n\n\n\nJueves\, 02 de marzo\, de 19h a 21:30h\n\nAula: GIRONA – Gran Vía Jaime I\, 76\, 4º-2ª\, 17001 Girona (Girona)\n\n\n\nFecha y lugar del examen: 25 de abril en Barcelona
URL:https://escolanauticamedinya.com/evento/per-presencial-girona-marzo-abril-2026/2026-03-31/
LOCATION:Escola Nàutica Mediñà – Girona\, Gran Via de Jaume I\, 76\, Girona\, Girona\, 17002\, España
CATEGORIES:PER,PER | Curso Girona
GEO:41.980864179292;2.8209650846562
X-APPLE-STRUCTURED-LOCATION;VALUE=URI;X-ADDRESS=Escola Nàutica Mediñà – Girona Gran Via de Jaume I 76 Girona Girona 17002 España;X-APPLE-RADIUS=500;X-TITLE=Gran Via de Jaume I\, 76:geo:2.8209650846562,41.980864179292
END:VEVENT
BEGIN:VEVENT
DTSTART;TZID=Europe/Madrid:20260331T190000
DTEND;TZID=Europe/Madrid:20260331T213000
DTSTAMP:20260420T123850
CREATED:20260122T091413Z
LAST-MODIFIED:20260219T084458Z
UID:10000755-1774983600-1774992600@escolanauticamedinya.com
SUMMARY:PNB Presencial Girona | Marzo 2026
DESCRIPTION:Oferta\n			Producto en oferta\n		\n					\n					PNB Presencial Girona | Marzo 2026\n				\n				306\,10 € – 697\,50 €Rango de precios: desde 306\,10 € hasta 697\,50 €\n				\n				Seleccionar opciones
URL:https://escolanauticamedinya.com/evento/pnb-presencial-girona-marzo-2026/2026-03-31/
LOCATION:Escola Nàutica Mediñà – Girona\, Gran Via de Jaume I\, 76\, Girona\, Girona\, 17002\, España
CATEGORIES:PNB,PNB | Curso Girona
GEO:41.980864179292;2.8209650846562
X-APPLE-STRUCTURED-LOCATION;VALUE=URI;X-ADDRESS=Escola Nàutica Mediñà – Girona Gran Via de Jaume I 76 Girona Girona 17002 España;X-APPLE-RADIUS=500;X-TITLE=Gran Via de Jaume I\, 76:geo:2.8209650846562,41.980864179292
END:VEVENT
BEGIN:VEVENT
DTSTART;TZID=Europe/Madrid:20260401T190000
DTEND;TZID=Europe/Madrid:20260401T213000
DTSTAMP:20260420T123850
CREATED:20260122T085041Z
LAST-MODIFIED:20260122T085050Z
UID:10000750-1775070000-1775079000@escolanauticamedinya.com
SUMMARY:PER Presencial Girona | Marzo-Abril 2026
DESCRIPTION:Inicio del curso: Martes\, 24 de marzo de 2026 \n\n\n\n\nHorario y días de las clases:\n\nMartes\, 24 de marzo\, de 19h a 21:30h\n\n\n\nMiercoles\, 25 de marzo\, de 19h a 21:30h\n\n\n\nJueves\, 26 de marzo\, de 19h a 21:30h\n\n\n\nMartes\, 31 de marzo\, de 19h a 21:30h\n\n\n\nMiercoles\, 01 de abril\, de 19h a 21:30h\n\n\n\nJueves\, 02 de marzo\, de 19h a 21:30h\n\nAula: GIRONA – Gran Vía Jaime I\, 76\, 4º-2ª\, 17001 Girona (Girona)\n\n\n\nFecha y lugar del examen: 25 de abril en Barcelona
URL:https://escolanauticamedinya.com/evento/per-presencial-girona-marzo-abril-2026/2026-04-01/
LOCATION:Escola Nàutica Mediñà – Girona\, Gran Via de Jaume I\, 76\, Girona\, Girona\, 17002\, España
CATEGORIES:PER,PER | Curso Girona
GEO:41.980864179292;2.8209650846562
X-APPLE-STRUCTURED-LOCATION;VALUE=URI;X-ADDRESS=Escola Nàutica Mediñà – Girona Gran Via de Jaume I 76 Girona Girona 17002 España;X-APPLE-RADIUS=500;X-TITLE=Gran Via de Jaume I\, 76:geo:2.8209650846562,41.980864179292
END:VEVENT
BEGIN:VEVENT
DTSTART;TZID=Europe/Madrid:20260402T190000
DTEND;TZID=Europe/Madrid:20260402T213000
DTSTAMP:20260420T123850
CREATED:20260122T085041Z
LAST-MODIFIED:20260122T085050Z
UID:10000751-1775156400-1775165400@escolanauticamedinya.com
SUMMARY:PER Presencial Girona | Marzo-Abril 2026
DESCRIPTION:Inicio del curso: Martes\, 24 de marzo de 2026 \n\n\n\n\nHorario y días de las clases:\n\nMartes\, 24 de marzo\, de 19h a 21:30h\n\n\n\nMiercoles\, 25 de marzo\, de 19h a 21:30h\n\n\n\nJueves\, 26 de marzo\, de 19h a 21:30h\n\n\n\nMartes\, 31 de marzo\, de 19h a 21:30h\n\n\n\nMiercoles\, 01 de abril\, de 19h a 21:30h\n\n\n\nJueves\, 02 de marzo\, de 19h a 21:30h\n\nAula: GIRONA – Gran Vía Jaime I\, 76\, 4º-2ª\, 17001 Girona (Girona)\n\n\n\nFecha y lugar del examen: 25 de abril en Barcelona
URL:https://escolanauticamedinya.com/evento/per-presencial-girona-marzo-abril-2026/2026-04-02/
LOCATION:Escola Nàutica Mediñà – Girona\, Gran Via de Jaume I\, 76\, Girona\, Girona\, 17002\, España
CATEGORIES:PER,PER | Curso Girona
GEO:41.980864179292;2.8209650846562
X-APPLE-STRUCTURED-LOCATION;VALUE=URI;X-ADDRESS=Escola Nàutica Mediñà – Girona Gran Via de Jaume I 76 Girona Girona 17002 España;X-APPLE-RADIUS=500;X-TITLE=Gran Via de Jaume I\, 76:geo:2.8209650846562,41.980864179292
END:VEVENT
BEGIN:VEVENT
DTSTART;TZID=Europe/Madrid:20260403T183000
DTEND;TZID=Europe/Madrid:20260403T210000
DTSTAMP:20260420T123850
CREATED:20260206T114137Z
LAST-MODIFIED:20260206T114144Z
UID:10000810-1775241000-1775250000@escolanauticamedinya.com
SUMMARY:P.Yate Presencial Palamós | Marzo 2026
DESCRIPTION:Da un paso más en tu aventura náutica y gobierna embarcaciones de mayor eslora con seguridad. Con nuestro curso presencial en Palamós\, obtendrás la formación necesaria para ser Patrón de Yate\, acompañado por profesionales que te guiarán durante todo el proceso. Elige entre distintas opciones del curso y aprovecha descuentos especiales.– Inicio del curso: 20 de marzo de 2026.– Fechas y horarios: Todos los viernes\, de 18:30h a 21:00h (Excepto los viernes 3 de abril y 1 de mayo\, que son festivos.)– Aula: PALAMÓS – C/Salvador Albert i Pey\, s/n\, Local 11 – PORT MARINA PALAMÓS\, 17230 Palamós (Girona)– Fecha y lugar del examen: Sábado\, 20 de junio de 2026 en Barcelona
URL:https://escolanauticamedinya.com/evento/p-yate-presencial-palamos-marzo-2026/2026-04-03/
LOCATION:Escola Nàutica Medinyà Palamós – Port Marina\, Port Marina\, Palamós\, Girona\, 17230\, España
CATEGORIES:P.YATE,P.YATE | Curso Palamós
GEO:41.847775420719;3.1357346771719
X-APPLE-STRUCTURED-LOCATION;VALUE=URI;X-ADDRESS=Escola Nàutica Medinyà Palamós – Port Marina Port Marina Palamós Girona 17230 España;X-APPLE-RADIUS=500;X-TITLE=Port Marina:geo:3.1357346771719,41.847775420719
END:VEVENT
END:VCALENDAR